BEGIN:VCALENDAR
VERSION:2.0
PRODID:-//Plone.org//NONSGML plone.app.event//EN
X-WR-TIMEZONE:Europe/Madrid
BEGIN:VEVENT
SUMMARY:Curs: 'Vens al preu que has de vendre?'
DTSTART;TZID=Europe/Madrid;VALUE=DATE-TIME:20231115T160000
DTEND;TZID=Europe/Madrid;VALUE=DATE-TIME:20231115T170000
DTSTAMP;VALUE=DATE-TIME:20260422T095122Z
UID:5680ced670605bce47158cb75b02e3f1
CREATED;VALUE=DATE-TIME:20231113T000000Z
CATEGORIES:Cursos
ORGANIZER:Society and Neurobusiness experience SL
COMMENT:Preu: 0&euro;
Durada: 13, 14 i 15 de novembre de 16h a 19h
DESCRIPTION:Ajornat. Anunciarem la nova data properament.
URL:https://ajllavaneres.cat/document.php?id=19204
END:VEVENT
END:VCALENDAR