BEGIN:VCALENDAR
VERSION:2.0
PRODID:-//Plone.org//NONSGML plone.app.event//EN
X-WR-TIMEZONE:Europe/Madrid
BEGIN:VEVENT
SUMMARY:Dinàmica: 'Amb orgull contra l'assetjament'
DTSTART;TZID=Europe/Madrid;VALUE=DATE-TIME:20230517T170000
DTEND;TZID=Europe/Madrid;VALUE=DATE-TIME:20230517T180000
DTSTAMP;VALUE=DATE-TIME:20260426T020358Z
UID:32709a32eac031048e942284953bd597
CREATED;VALUE=DATE-TIME:20230517T000000Z
CATEGORIES:Reunió,Trobada
LOCATION:Casal Jove - Passeig Mare de Deu de Montserrat, 45
ORGANIZER:Casal Jove
COMMENT:Preu: gratuït
Durada: 2 hores
URL:https://ajllavaneres.cat/document.php?id=19297
END:VEVENT
END:VCALENDAR