BEGIN:VCALENDAR
VERSION:2.0
PRODID:-//Plone.org//NONSGML plone.app.event//EN
X-WR-TIMEZONE:Europe/Madrid
BEGIN:VEVENT
SUMMARY:Presentació de la novel·la: 'L'enèsima confabulació d'imbècils', de Marcel San Martín
DTSTART;TZID=Europe/Madrid;VALUE=DATE-TIME:20230512T183000
DTEND;TZID=Europe/Madrid;VALUE=DATE-TIME:20230512T193000
DTSTAMP;VALUE=DATE-TIME:20260426T033838Z
UID:45959c913c02c6f2af56f3396d1517cd
CREATED;VALUE=DATE-TIME:20230512T000000Z
CATEGORIES:Literatura
LOCATION:Sala d'actes de la Biblioteca Font i Daniel - Clòsens, 65
ORGANIZER:Biblioteca Municipal
COMMENT:Preu: Gratuït
URL:https://ajllavaneres.cat/document.php?id=19311
END:VEVENT
END:VCALENDAR