BEGIN:VCALENDAR
VERSION:2.0
PRODID:-//Plone.org//NONSGML plone.app.event//EN
X-WR-TIMEZONE:Europe/Madrid
BEGIN:VEVENT
SUMMARY:Reunió informativa per a famílies: Casal d'Estiu 2023
DTSTART;TZID=Europe/Madrid;VALUE=DATE-TIME:20230511T183000
DTEND;TZID=Europe/Madrid;VALUE=DATE-TIME:20230511T193000
DTSTAMP;VALUE=DATE-TIME:20260426T020058Z
UID:9d0997f1b9fc02f0dcf1a250c0a51ea4
CREATED;VALUE=DATE-TIME:20230511T000000Z
CATEGORIES:Esports,Cursos,Infantils
LOCATION:Sala de plens de l'Ajuntament - Plaça de la Vila, 1
ORGANIZER:Regidoria d'Educació i ANNCON Lleure
COMMENT:Durada: Fins a les 20.30 h, aprox.
DESCRIPTION:Reunió informativa a càrrec de la Regidoria d'Educació i de l'empresa organitzadora del casal
URL:https://ajllavaneres.cat/document.php?id=19340
END:VEVENT
END:VCALENDAR