BEGIN:VCALENDAR
VERSION:2.0
PRODID:-//Plone.org//NONSGML plone.app.event//EN
X-WR-TIMEZONE:Europe/Madrid
BEGIN:VEVENT
SUMMARY:Missa solemne a l'església de Sant Pere
DTSTART;TZID=Europe/Madrid;VALUE=DATE-TIME:20230629T184500
DTEND;TZID=Europe/Madrid;VALUE=DATE-TIME:20230629T194500
DTSTAMP;VALUE=DATE-TIME:20260426T020128Z
UID:b31714d85ee7a07eab639ba39d3f2998
CREATED;VALUE=DATE-TIME:20230629T000000Z
CATEGORIES:Festa
LOCATION:Església de Sant Pere - Avinguda de Sant Andreu, 3, 08392 Sant Andreu de Llavaneres, Barcelona
ORGANIZER:Pàrroquia de Sant Andreu
COMMENT:Preu: Entrada lliure
Durada: 2 hores
DESCRIPTION:Repicament de campanes pels Campaners de Sant Andreu i missa solemne amb motiu de la diada de Sant Pere
URL:https://ajllavaneres.cat/document.php?id=19341
END:VEVENT
END:VCALENDAR