BEGIN:VCALENDAR
VERSION:2.0
PRODID:-//Plone.org//NONSGML plone.app.event//EN
X-WR-TIMEZONE:Europe/Madrid
BEGIN:VEVENT
SUMMARY:Hora del conte: 'L'Aranyota Capipota'
DTSTART;TZID=Europe/Madrid;VALUE=DATE-TIME:20230610T110000
DTEND;TZID=Europe/Madrid;VALUE=DATE-TIME:20230610T120000
DTSTAMP;VALUE=DATE-TIME:20260426T020210Z
UID:9326b9e5c759026c81ccebefcc08b6a5
CREATED;VALUE=DATE-TIME:20230610T000000Z
CATEGORIES:Infantils
LOCATION:Sala infantil de la Biblioteca Font i Daniel - Clòsens, 65
ORGANIZER:Biblioteca Font i Daniel
COMMENT:Preu: Gratuït
DESCRIPTION:A càrrec de Roser García Martínez
URL:https://ajllavaneres.cat/document.php?id=19362
END:VEVENT
END:VCALENDAR