BEGIN:VCALENDAR
VERSION:2.0
PRODID:-//Plone.org//NONSGML plone.app.event//EN
X-WR-TIMEZONE:Europe/Madrid
BEGIN:VEVENT
SUMMARY:Caiac i Pàdel surf en família
DTSTART;TZID=Europe/Madrid;VALUE=DATE-TIME:20230709T100000
DTEND;TZID=Europe/Madrid;VALUE=DATE-TIME:20230709T110000
DTSTAMP;VALUE=DATE-TIME:20260423T081114Z
UID:ffa84aad5a81d516f62cb5e814edb9bd
CREATED;VALUE=DATE-TIME:20230708T000000Z
CATEGORIES:Esports
LOCATION:Altre (ho explico més avall) - Platja CN El Balís
ORGANIZER:Regidoria d'Esports
COMMENT:Preu: Gratuït
URL:https://ajllavaneres.cat/document.php?id=19419
END:VEVENT
END:VCALENDAR