BEGIN:VCALENDAR
VERSION:2.0
PRODID:-//Plone.org//NONSGML plone.app.event//EN
X-WR-TIMEZONE:Europe/Madrid
BEGIN:VEVENT
SUMMARY:Audició d'alumnes de bateria de l'EMM Llavaneres
DTSTART;TZID=Europe/Madrid;VALUE=DATE-TIME:20230606T180000
DTEND;TZID=Europe/Madrid;VALUE=DATE-TIME:20230606T190000
DTSTAMP;VALUE=DATE-TIME:20260426T033547Z
UID:e8a392a586d572a944769f2ca5ac2383
CREATED;VALUE=DATE-TIME:20230606T000000Z
CATEGORIES:Mostra,Música,Agenda E.M.M.
LOCATION:Escola de Música. Can Caralt - Passeig de la Mare de Déu de Montserrat, 27-33
ORGANIZER:Escola Municipal de Música Llavaneres
COMMENT:Preu: Gratuït
Durada: 45 minuts
URL:https://ajllavaneres.cat/document.php?id=19475
END:VEVENT
END:VCALENDAR