BEGIN:VCALENDAR
VERSION:2.0
PRODID:-//Plone.org//NONSGML plone.app.event//EN
X-WR-TIMEZONE:Europe/Madrid
BEGIN:VEVENT
SUMMARY:Curs de Filosofia
DTSTART;TZID=Europe/Madrid;VALUE=DATE-TIME:20230612T180000
DTEND;TZID=Europe/Madrid;VALUE=DATE-TIME:20230612T190000
DTSTAMP;VALUE=DATE-TIME:20260419T140353Z
UID:305b6c9e626fe5d1d69ad8eb7051fdd1
CREATED;VALUE=DATE-TIME:20230605T000000Z
CATEGORIES:Cursos
LOCATION:Sala de Lectura, Sunsi Móra - Avinguda de Catalunya, 56
ORGANIZER:Secció de Cultura d'El Casal
COMMENT:Preu: Entrada lliure
Durada: 2 hores
DESCRIPTION:Taller de filosofia obert a tothom
URL:https://ajllavaneres.cat/document.php?id=19501
END:VEVENT
END:VCALENDAR