BEGIN:VCALENDAR
VERSION:2.0
PRODID:-//Plone.org//NONSGML plone.app.event//EN
X-WR-TIMEZONE:Europe/Madrid
BEGIN:VEVENT
SUMMARY:Muntatge de les catifes florals de Corpus
DTSTART;TZID=Europe/Madrid;VALUE=DATE-TIME:20230611T090000
DTEND;TZID=Europe/Madrid;VALUE=DATE-TIME:20230611T100000
DTSTAMP;VALUE=DATE-TIME:20260426T020154Z
UID:eb18f3338cc6a6b7bb39e7d1a2f8855e
CREATED;VALUE=DATE-TIME:20230611T000000Z
CATEGORIES:Festa
LOCATION:Carrer de Munt
ORGANIZER:Parròquia de Sant Andreu de Llavaneres
COMMENT:Preu: Entrada lliure
Durada: Durant tot el diumenge 11 de juny
DESCRIPTION:Al carrer de Munt i a la parròquia de Sant Andreu
URL:https://ajllavaneres.cat/document.php?id=19504
END:VEVENT
END:VCALENDAR