BEGIN:VCALENDAR
VERSION:2.0
PRODID:-//Plone.org//NONSGML plone.app.event//EN
X-WR-TIMEZONE:Europe/Madrid
BEGIN:VEVENT
SUMMARY:Xerrada: 'L'alimentació en la menopausa'
DTSTART;TZID=Europe/Madrid;VALUE=DATE-TIME:20230616T180000
DTEND;TZID=Europe/Madrid;VALUE=DATE-TIME:20230616T190000
DTSTAMP;VALUE=DATE-TIME:20260426T002846Z
UID:46609afd2f9431109c0954fcacc54a67
CREATED;VALUE=DATE-TIME:20230616T000000Z
LOCATION:CAP Llavaneres. Passeig de Jaume Brutau
ORGANIZER:EAP Sant Andreu de Llavaneres
COMMENT:Durada: Fins a les 19.30 h
URL:https://ajllavaneres.cat/document.php?id=19530
END:VEVENT
END:VCALENDAR