BEGIN:VCALENDAR
VERSION:2.0
PRODID:-//Plone.org//NONSGML plone.app.event//EN
X-WR-TIMEZONE:Europe/Madrid
BEGIN:VEVENT
SUMMARY:Tarifació social a les llars d'infants públiques
DTSTART;TZID=Europe/Madrid;VALUE=DATE-TIME:20230710T080000
DTEND;TZID=Europe/Madrid;VALUE=DATE-TIME:20230710T090000
DTSTAMP;VALUE=DATE-TIME:20260425T223948Z
UID:c0ae4a75e4e507aea6201d9474642166
CREATED;VALUE=DATE-TIME:20230626T000000Z
CATEGORIES:Infantils
LOCATION:Sessió telemàtica
ORGANIZER:Regidoria d'Educació, Llar d'Infants Minerva i Llar d'Infants Sant Nicolau.
URL:https://ajllavaneres.cat/document.php?id=19608
END:VEVENT
END:VCALENDAR