BEGIN:VCALENDAR
VERSION:2.0
PRODID:-//Plone.org//NONSGML plone.app.event//EN
X-WR-TIMEZONE:Europe/Madrid
BEGIN:VEVENT
SUMMARY:Música a fons: 'La música per a videojocs: des dels inici fins als nostres dies'
DTSTART;TZID=Europe/Madrid;VALUE=DATE-TIME:20231202T110000
DTEND;TZID=Europe/Madrid;VALUE=DATE-TIME:20231202T120000
DTSTAMP;VALUE=DATE-TIME:20260420T015327Z
UID:2a6bf1ec6ab8462219a56656a89d6a11
CREATED;VALUE=DATE-TIME:20231202T000000Z
CATEGORIES:Música,Conferència
LOCATION:Sala d'actes de la Biblioteca Font i Daniel - Clòsens, 65
ORGANIZER:Regidoria de Cultura; Biblioteca Municipal
COMMENT:Preu: Gratuït
DESCRIPTION:A càrrec de Gabriel Garrido Garcia
URL:https://ajllavaneres.cat/document.php?id=19628
END:VEVENT
END:VCALENDAR