BEGIN:VCALENDAR
VERSION:2.0
PRODID:-//Plone.org//NONSGML plone.app.event//EN
X-WR-TIMEZONE:Europe/Madrid
BEGIN:VEVENT
SUMMARY:Fotografia amb la Brigada Jove 2023
DTSTART;TZID=Europe/Madrid;VALUE=DATE-TIME:20230703T090000
DTEND;TZID=Europe/Madrid;VALUE=DATE-TIME:20230703T100000
DTSTAMP;VALUE=DATE-TIME:20260420T013003Z
UID:9fc6e4c06046dec59e60b5e9e0f5de14
CREATED;VALUE=DATE-TIME:20230703T000000Z
CATEGORIES:Agenda de l'alcalde
ORGANIZER:Regidoria de Comunicació / Regidoria d'Ocupació
URL:https://ajllavaneres.cat/document.php?id=19636
END:VEVENT
END:VCALENDAR