BEGIN:VCALENDAR
VERSION:2.0
PRODID:-//Plone.org//NONSGML plone.app.event//EN
X-WR-TIMEZONE:Europe/Madrid
BEGIN:VEVENT
SUMMARY:Reunió amb el Patronat de la Vellesa
DTSTART;TZID=Europe/Madrid;VALUE=DATE-TIME:20230706T213000
DTEND;TZID=Europe/Madrid;VALUE=DATE-TIME:20230706T223000
DTSTAMP;VALUE=DATE-TIME:20260420T052611Z
UID:5b752b588cf4345ffff9b74fd8ec3807
CREATED;VALUE=DATE-TIME:20230706T000000Z
CATEGORIES:Reunió,Agenda de l'alcalde
COMMENT:Durada: Fins a les 22.30 h
URL:https://ajllavaneres.cat/document.php?id=19642
END:VEVENT
END:VCALENDAR