BEGIN:VCALENDAR
VERSION:2.0
PRODID:-//Plone.org//NONSGML plone.app.event//EN
X-WR-TIMEZONE:Europe/Madrid
BEGIN:VEVENT
SUMMARY:Acte de lliurament dels recordatoris a les Puntaires
DTSTART;TZID=Europe/Madrid;VALUE=DATE-TIME:20230709T130000
DTEND;TZID=Europe/Madrid;VALUE=DATE-TIME:20230709T140000
DTSTAMP;VALUE=DATE-TIME:20260422T161326Z
UID:1d1a73cbcbce7effbfd0aaef6f0f33e0
CREATED;VALUE=DATE-TIME:20230709T000000Z
CATEGORIES:Fira,Agenda de l'alcalde
LOCATION:Parc de Ca l'Alfaro
DESCRIPTION:Fira de Puntaires
URL:https://ajllavaneres.cat/document.php?id=19668
END:VEVENT
END:VCALENDAR