BEGIN:VCALENDAR
VERSION:2.0
PRODID:-//Plone.org//NONSGML plone.app.event//EN
X-WR-TIMEZONE:Europe/Madrid
BEGIN:VEVENT
SUMMARY:Reunió interna de la Regidoria d'Hisenda
DTSTART;TZID=Europe/Madrid;VALUE=DATE-TIME:20230808T110000
DTEND;TZID=Europe/Madrid;VALUE=DATE-TIME:20230808T120000
DTSTAMP;VALUE=DATE-TIME:20260419T204217Z
UID:a31fc0f2f236fed9c368f3602d590785
CREATED;VALUE=DATE-TIME:20230808T000000Z
CATEGORIES:Agenda de l'alcalde
LOCATION:Despatx de l'alcalde
COMMENT:Durada: Fins a les 13.00 h
URL:https://ajllavaneres.cat/document.php?id=19756
END:VEVENT
END:VCALENDAR