BEGIN:VCALENDAR
VERSION:2.0
PRODID:-//Plone.org//NONSGML plone.app.event//EN
X-WR-TIMEZONE:Europe/Madrid
BEGIN:VEVENT
SUMMARY:65è Homenatge a la Vellesa
DTSTART;TZID=Europe/Madrid;VALUE=DATE-TIME:20220924T113000
DTEND;TZID=Europe/Madrid;VALUE=DATE-TIME:20220924T123000
DTSTAMP;VALUE=DATE-TIME:20260422T143307Z
UID:1be65af916da607186f23cc90e0e6e6f
CREATED;VALUE=DATE-TIME:20220924T000000Z
CATEGORIES:Festa
ORGANIZER:Patronat de la Vellesa, amb la col·laboració de l'Ajuntament de Sant Andreu de Llavaneres
DESCRIPTION:Adreçat a majors de 75 anys
URL:https://ajllavaneres.cat/document.php?id=19793
END:VEVENT
END:VCALENDAR