BEGIN:VCALENDAR
VERSION:2.0
PRODID:-//Plone.org//NONSGML plone.app.event//EN
X-WR-TIMEZONE:Europe/Madrid
BEGIN:VEVENT
SUMMARY:Exposició: '3 artistes 3'
DTSTART;TZID=Europe/Madrid;VALUE=DATE-TIME:20231022T193000
DTEND;TZID=Europe/Madrid;VALUE=DATE-TIME:20231022T203000
DTSTAMP;VALUE=DATE-TIME:20260422T120030Z
UID:eaf2cb2a808af89dd296d9ee9eb9115f
CREATED;VALUE=DATE-TIME:20230929T000000Z
CATEGORIES:Exposició
LOCATION:Museu-Arxiu de Llavaneres. Can Caralt - Carretera de Sant Vicenç, 14
ORGANIZER:Museu Arxiu de Sant Andreu de Llavaneres
COMMENT:Preu: gratuït
Durada: Dilluns i dimarts no festius tancat.
DESCRIPTION:Carles Castellví, Mònica Vilert i Viola Hoffmann
URL:https://ajllavaneres.cat/document.php?id=19838
END:VEVENT
END:VCALENDAR