BEGIN:VCALENDAR
VERSION:2.0
PRODID:-//Plone.org//NONSGML plone.app.event//EN
X-WR-TIMEZONE:Europe/Madrid
BEGIN:VEVENT
SUMMARY:Hora del conte: 'Bruixes i criatures fantàstiques', amb Assumpta Mercader
DTSTART;TZID=Europe/Madrid;VALUE=DATE-TIME:20231027T173000
DTEND;TZID=Europe/Madrid;VALUE=DATE-TIME:20231027T183000
DTSTAMP;VALUE=DATE-TIME:20260419T232341Z
UID:0c7631caae0fcc469af30b0999439025
CREATED;VALUE=DATE-TIME:20231027T000000Z
CATEGORIES:Literatura
LOCATION:Casal Jove - Passeig Mare de Déu de Montserrat, 45
ORGANIZER:Regidoria de Cultura, Biblioteca Municipal i Casal Jove.
COMMENT:Preu: Gratuït
URL:https://ajllavaneres.cat/document.php?id=19883
END:VEVENT
END:VCALENDAR