BEGIN:VCALENDAR
VERSION:2.0
PRODID:-//Plone.org//NONSGML plone.app.event//EN
X-WR-TIMEZONE:Europe/Madrid
BEGIN:VEVENT
SUMMARY:Mostra de Teatre: 'Faig tard'
DTSTART;TZID=Europe/Madrid;VALUE=DATE-TIME:20231015T180000
DTEND;TZID=Europe/Madrid;VALUE=DATE-TIME:20231015T190000
DTSTAMP;VALUE=DATE-TIME:20260423T003654Z
UID:22e808b7d519312a38e44aa292001c8d
CREATED;VALUE=DATE-TIME:20231015T000000Z
CATEGORIES:Teatre
LOCATION:TEATRE D'EL CASAL DE LLAVANERES
ORGANIZER:SECCIÓ DE TEATRE D'EL CASAL
COMMENT:Preu: 8&euro; Socis - 10&euro; No socis
Durada: 1'30h.
DESCRIPTION:Amb l'actriu Rosa Andreu
URL:https://ajllavaneres.cat/document.php?id=19902
END:VEVENT
END:VCALENDAR