BEGIN:VCALENDAR
VERSION:2.0
PRODID:-//Plone.org//NONSGML plone.app.event//EN
X-WR-TIMEZONE:Europe/Madrid
BEGIN:VEVENT
SUMMARY:Caminada contra el Càncer de Mama
DTSTART;TZID=Europe/Madrid;VALUE=DATE-TIME:20231015T083000
DTEND;TZID=Europe/Madrid;VALUE=DATE-TIME:20231015T093000
DTSTAMP;VALUE=DATE-TIME:20260422T210257Z
UID:217af2cc4d3ccee352e24008733bb7cf
CREATED;VALUE=DATE-TIME:20231015T000000Z
CATEGORIES:Trobada
LOCATION:Passeig de Jaume Brutau (sortida)
ORGANIZER:Llavaneres contra el Càncer
COMMENT:Preu: 10 euros, anticipada; 12 euros, el mateix dia.
DESCRIPTION:A càrrec de Llavaneres contra el Càncer
URL:https://ajllavaneres.cat/document.php?id=19950
END:VEVENT
END:VCALENDAR