BEGIN:VCALENDAR
VERSION:2.0
PRODID:-//Plone.org//NONSGML plone.app.event//EN
X-WR-TIMEZONE:Europe/Madrid
BEGIN:VEVENT
SUMMARY:XXIX Torneig de Golf de Sant Andreu
DTSTART;TZID=Europe/Madrid;VALUE=DATE-TIME:20231024T090000
DTEND;TZID=Europe/Madrid;VALUE=DATE-TIME:20231024T100000
DTSTAMP;VALUE=DATE-TIME:20260420T045527Z
UID:89c6aa31c6f2121d326796bb7681af31
CREATED;VALUE=DATE-TIME:20231024T000000Z
CATEGORIES:Esports
LOCATION:Club de Golf Llavaneras
ORGANIZER:Club de Golf Llavaneras
COMMENT:Preu: 24&euro; Socis / 75&euro; No socis
DESCRIPTION:Modalitat stableford individual
URL:https://ajllavaneres.cat/document.php?id=20054
END:VEVENT
END:VCALENDAR