BEGIN:VCALENDAR
VERSION:2.0
PRODID:-//Plone.org//NONSGML plone.app.event//EN
X-WR-TIMEZONE:Europe/Madrid
BEGIN:VEVENT
SUMMARY:Sessió de DJ amb la DJ Muerta Sánchez
DTSTART;TZID=Europe/Madrid;VALUE=DATE-TIME:20231202T003000
DTEND;TZID=Europe/Madrid;VALUE=DATE-TIME:20231202T013000
DTSTAMP;VALUE=DATE-TIME:20260420T034627Z
UID:6f21abcce530846e8a6be1715bece0a0
CREATED;VALUE=DATE-TIME:20231202T000000Z
CATEGORIES:Música
LOCATION:envelat de Ca l'Alfaro - Passeig de la Mare de Déu de Montserrat, 27-33
ORGANIZER:Regidoria de Cultura
COMMENT:Preu: Entrada lliure
URL:https://ajllavaneres.cat/document.php?id=20131
END:VEVENT
END:VCALENDAR