BEGIN:VCALENDAR
VERSION:2.0
PRODID:-//Plone.org//NONSGML plone.app.event//EN
X-WR-TIMEZONE:Europe/Madrid
BEGIN:VEVENT
SUMMARY:Creuer - Gran Premi El Balís
DTSTART;TZID=Europe/Madrid;VALUE=DATE-TIME:20231118T000000
DTEND;TZID=Europe/Madrid;VALUE=DATE-TIME:20231118T010000
DTSTAMP;VALUE=DATE-TIME:20260420T005951Z
UID:85af91becfb7afb402123e8196d643cd
CREATED;VALUE=DATE-TIME:20231118T000000Z
CATEGORIES:Esports
LOCATION:Port Balís
ORGANIZER:Club Nàutic El Balís
URL:https://ajllavaneres.cat/document.php?id=20192
END:VEVENT
END:VCALENDAR