BEGIN:VCALENDAR
VERSION:2.0
PRODID:-//Plone.org//NONSGML plone.app.event//EN
X-WR-TIMEZONE:Europe/Madrid
BEGIN:VEVENT
SUMMARY:'Som de Barri: la Festa!'
DTSTART;TZID=Europe/Madrid;VALUE=DATE-TIME:20240616T110000
DTEND;TZID=Europe/Madrid;VALUE=DATE-TIME:20240616T120000
DTSTAMP;VALUE=DATE-TIME:20260420T041053Z
UID:5409d18664c7e88e0fd6204931fb40b0
CREATED;VALUE=DATE-TIME:20240616T000000Z
CATEGORIES:Procés participatiu,Agenda de l'alcalde,Agenda institucional
LOCATION:Passeig de la Mare de Déu de Montserrat, 27-33
ORGANIZER:Regidoria de Participació Ciutadana. Amb el suport de la Diputació de Barcelona
COMMENT:Durada: Fins a les 14 hores.
DESCRIPTION:Trobada de tots els barris de Llavaneres
URL:https://ajllavaneres.cat/document.php?id=20740
END:VEVENT
END:VCALENDAR