BEGIN:VCALENDAR
VERSION:2.0
PRODID:-//Plone.org//NONSGML plone.app.event//EN
X-WR-TIMEZONE:Europe/Madrid
BEGIN:VEVENT
SUMMARY:Concert de Sant Jordi
DTSTART;TZID=Europe/Madrid;VALUE=DATE-TIME:20240423T180000
DTEND;TZID=Europe/Madrid;VALUE=DATE-TIME:20240423T190000
DTSTAMP;VALUE=DATE-TIME:20260420T052459Z
UID:3dcbc93964a90d1a15a820f39c05d479
CREATED;VALUE=DATE-TIME:20240423T000000Z
LOCATION:Plaça de la Vila - Plaça de la Vila, 1
ORGANIZER:Regidoria de Cultura
URL:https://ajllavaneres.cat/document.php?id=20926
END:VEVENT
END:VCALENDAR