BEGIN:VCALENDAR
VERSION:2.0
PRODID:-//Plone.org//NONSGML plone.app.event//EN
X-WR-TIMEZONE:Europe/Madrid
BEGIN:VEVENT
SUMMARY:Què vols fer a l'estiu?
DTSTART;TZID=Europe/Madrid;VALUE=DATE-TIME:20240529T180000
DTEND;TZID=Europe/Madrid;VALUE=DATE-TIME:20240529T190000
DTSTAMP;VALUE=DATE-TIME:20260420T222359Z
UID:eed341b9705e1b9a43c5c78d66ec59cd
CREATED;VALUE=DATE-TIME:20240529T000000Z
CATEGORIES:Reunió,Trobada
LOCATION:Casal Jove - Passeig Mare de Deu de Montserrat, 45
ORGANIZER:Casal Jove. Regidoria de Joventut.
COMMENT:Preu: gratuït
Durada: 1 hora
DESCRIPTION:Vine i descobreix que t'ofereix la mobilitat internacional
URL:https://ajllavaneres.cat/document.php?id=21077
END:VEVENT
END:VCALENDAR