BEGIN:VCALENDAR
VERSION:2.0
PRODID:-//Plone.org//NONSGML plone.app.event//EN
X-WR-TIMEZONE:Europe/Madrid
BEGIN:VEVENT
SUMMARY:Audició d'alumnes de guitarra i Conjunt de guitarres de l'EMM Llavaneres
DTSTART;TZID=Europe/Madrid;VALUE=DATE-TIME:20240603T183000
DTEND;TZID=Europe/Madrid;VALUE=DATE-TIME:20240603T193000
DTSTAMP;VALUE=DATE-TIME:20260421T175909Z
UID:091c112cdb3343ba1ef1de3258f55083
CREATED;VALUE=DATE-TIME:20240603T000000Z
CATEGORIES:Mostra,Música,Trobada,Agenda E.M.M.
LOCATION:Jardins de Can Caralt - Can Caralt
ORGANIZER:Escola Municipal de Música Llavaneres
COMMENT:Preu: Gratuït
URL:https://ajllavaneres.cat/document.php?id=21264
END:VEVENT
END:VCALENDAR