BEGIN:VCALENDAR
VERSION:2.0
PRODID:-//Plone.org//NONSGML plone.app.event//EN
X-WR-TIMEZONE:Europe/Madrid
BEGIN:VEVENT
SUMMARY:Teatre: 'Toc Toc', de Laurent Baffie
DTSTART;TZID=Europe/Madrid;VALUE=DATE-TIME:20240714T220000
DTEND;TZID=Europe/Madrid;VALUE=DATE-TIME:20240714T230000
DTSTAMP;VALUE=DATE-TIME:20260420T045458Z
UID:af734c7f6c1ce0e71dc1b72d2b9d57fb
CREATED;VALUE=DATE-TIME:20240713T000000Z
LOCATION:Parc de Ca l'Alfaro - Passeig de la Mare de Déu de Montserrat, 27-33
ORGANIZER:La Inestable Companyia de Teatre. Hi col·labora: Regidoria de Cultura i Festes.
URL:https://ajllavaneres.cat/document.php?id=21337
END:VEVENT
END:VCALENDAR