BEGIN:VCALENDAR
VERSION:2.0
PRODID:-//Plone.org//NONSGML plone.app.event//EN
X-WR-TIMEZONE:Europe/Madrid
BEGIN:VEVENT
SUMMARY:Inici de Festa Major
DTSTART;TZID=Europe/Madrid;VALUE=DATE-TIME:20240719T190000
DTEND;TZID=Europe/Madrid;VALUE=DATE-TIME:20240719T200000
DTSTAMP;VALUE=DATE-TIME:20260419T165518Z
UID:2fedda60c01612204c3be7b8f836785e
CREATED;VALUE=DATE-TIME:20240719T000000Z
LOCATION:Pels carrers del centre del poble
ORGANIZER:Geganters d'El Casal de Llavaneres i Regidoria de Cultura i Festes
URL:https://ajllavaneres.cat/document.php?id=21343
END:VEVENT
END:VCALENDAR