BEGIN:VCALENDAR
VERSION:2.0
PRODID:-//Plone.org//NONSGML plone.app.event//EN
X-WR-TIMEZONE:Europe/Madrid
BEGIN:VEVENT
SUMMARY:Presentació de la programació Canri Estiueja
DTSTART;TZID=Europe/Madrid;VALUE=DATE-TIME:20240702T173000
DTEND;TZID=Europe/Madrid;VALUE=DATE-TIME:20240702T183000
DTSTAMP;VALUE=DATE-TIME:20260422T133221Z
UID:d6aa83364031fd5704de2f857a2b00d0
CREATED;VALUE=DATE-TIME:20240702T000000Z
CATEGORIES:Reunió,Trobada,Procés participatiu
LOCATION:Casal Jove - Passeig Mare de Deu de Montserrat, 45
ORGANIZER:Casal Jove. Regidoria de Joventut.
COMMENT:Preu: gratuït
Durada: 2 hores
DESCRIPTION:Vine a conèixer les activitats que tenim preparades per aquest estiu!
URL:https://ajllavaneres.cat/document.php?id=21383
END:VEVENT
END:VCALENDAR