BEGIN:VCALENDAR
VERSION:2.0
PRODID:-//Plone.org//NONSGML plone.app.event//EN
X-WR-TIMEZONE:Europe/Madrid
BEGIN:VEVENT
SUMMARY:Mercat d'intercanvi del Casal Jove
DTSTART;TZID=Europe/Madrid;VALUE=DATE-TIME:20240704T173000
DTEND;TZID=Europe/Madrid;VALUE=DATE-TIME:20240704T183000
DTSTAMP;VALUE=DATE-TIME:20260422T132918Z
UID:d324a7878d31af6276ffdaf896f1220c
CREATED;VALUE=DATE-TIME:20240704T000000Z
CATEGORIES:Festa,Reunió,Trobada
LOCATION:Casal Jove - Passeig Mare de Deu de Montserrat, 45
ORGANIZER:Casal Jove. Regidoria de Joventut.
COMMENT:Preu: gratuït
Durada: 2 hores
DESCRIPTION:Muntarem una fireta d'intercanvi a la plaça!
URL:https://ajllavaneres.cat/document.php?id=21385
END:VEVENT
END:VCALENDAR