BEGIN:VCALENDAR
VERSION:2.0
PRODID:-//Plone.org//NONSGML plone.app.event//EN
X-WR-TIMEZONE:Europe/Madrid
BEGIN:VEVENT
SUMMARY:Paddle Surf amb el Casal Jove
DTSTART;TZID=Europe/Madrid;VALUE=DATE-TIME:20240809T103000
DTEND;TZID=Europe/Madrid;VALUE=DATE-TIME:20240809T113000
DTSTAMP;VALUE=DATE-TIME:20260420T045442Z
UID:627eae3b751efad38350f95c014c50c7
CREATED;VALUE=DATE-TIME:20240809T000000Z
CATEGORIES:Esports,Trobada
LOCATION:CN El Balís
ORGANIZER:Casal Jove. Regidoria de Joventut.
COMMENT:Preu: 6,00 &euro;
Durada: 2 hores i mitja
DESCRIPTION:Coneixeu aquesta disciplina aquàtica?
URL:https://ajllavaneres.cat/document.php?id=21390
END:VEVENT
END:VCALENDAR