BEGIN:VCALENDAR
VERSION:2.0
PRODID:-//Plone.org//NONSGML plone.app.event//EN
X-WR-TIMEZONE:Europe/Madrid
BEGIN:VEVENT
SUMMARY:Tarda de jocs de cucanya
DTSTART;TZID=Europe/Madrid;VALUE=DATE-TIME:20240723T173000
DTEND;TZID=Europe/Madrid;VALUE=DATE-TIME:20240723T183000
DTSTAMP;VALUE=DATE-TIME:20260420T083554Z
UID:c4b019ee004ad02ee5adec4055c714e5
CREATED;VALUE=DATE-TIME:20240723T000000Z
CATEGORIES:Reunió,Trobada
LOCATION:Casal Jove - Passeig Mare de Deu de Montserrat, 45
ORGANIZER:Casal Jove. Regidoria de Joventut.
COMMENT:Preu: gratuït
Durada: 2 hores
DESCRIPTION:Una activitat plena de diversió i competició saludable amb jocs tradicionals i emocionants reptes
URL:https://ajllavaneres.cat/document.php?id=21397
END:VEVENT
END:VCALENDAR