BEGIN:VCALENDAR
VERSION:2.0
PRODID:-//Plone.org//NONSGML plone.app.event//EN
X-WR-TIMEZONE:Europe/Madrid
BEGIN:VEVENT
SUMMARY:Taller de cuina creativa
DTSTART;TZID=Europe/Madrid;VALUE=DATE-TIME:20240726T173000
DTEND;TZID=Europe/Madrid;VALUE=DATE-TIME:20240726T183000
DTSTAMP;VALUE=DATE-TIME:20260420T113342Z
UID:9e33cbf64ff8b810b060df1d096c7a87
CREATED;VALUE=DATE-TIME:20240726T000000Z
CATEGORIES:Reunió,Trobada
LOCATION:Casal Jove - Passeig Mare de Deu de Montserrat, 45
ORGANIZER:Casal Jove. Regidoria de Joventut.
COMMENT:Preu: gratuït
Durada: 2 hores
DESCRIPTION:Avui fem batuts saludables!
URL:https://ajllavaneres.cat/document.php?id=21401
END:VEVENT
END:VCALENDAR