BEGIN:VCALENDAR
VERSION:2.0
PRODID:-//Plone.org//NONSGML plone.app.event//EN
X-WR-TIMEZONE:Europe/Madrid
BEGIN:VEVENT
SUMMARY:Lectura i manualitats
DTSTART;TZID=Europe/Madrid;VALUE=DATE-TIME:20240730T173000
DTEND;TZID=Europe/Madrid;VALUE=DATE-TIME:20240730T183000
DTSTAMP;VALUE=DATE-TIME:20260422T132531Z
UID:160876f53aed0a2aecc0eaa71e972586
CREATED;VALUE=DATE-TIME:20240730T000000Z
CATEGORIES:Reunió,Trobada
LOCATION:Casal Jove - Passeig Mare de Deu de Montserrat, 45
ORGANIZER:Casal Jove. Regidoria de Joventut.
COMMENT:Preu: gratuït
Durada: 2 hores
DESCRIPTION:Tarda per decidir llegir o fer alguna manualitat al Casal Jove
URL:https://ajllavaneres.cat/document.php?id=21403
END:VEVENT
END:VCALENDAR