BEGIN:VCALENDAR
VERSION:2.0
PRODID:-//Plone.org//NONSGML plone.app.event//EN
X-WR-TIMEZONE:Europe/Madrid
BEGIN:VEVENT
SUMMARY:Sortida: Anem a un Escape Room!
DTSTART;TZID=Europe/Madrid;VALUE=DATE-TIME:20240829T160000
DTEND;TZID=Europe/Madrid;VALUE=DATE-TIME:20240829T170000
DTSTAMP;VALUE=DATE-TIME:20260419T171904Z
UID:408e9888eff7a63c3e453af7eba202ac
CREATED;VALUE=DATE-TIME:20240829T000000Z
CATEGORIES:Reunió,Trobada
LOCATION:Casal Jove - Passeig Mare de Deu de Montserrat, 45
ORGANIZER:Casal Jove
COMMENT:Preu: 6 euros + transport públic
Durada: 4 hores
DESCRIPTION:Virus Room Escape
URL:https://ajllavaneres.cat/document.php?id=21421
END:VEVENT
END:VCALENDAR