BEGIN:VCALENDAR
VERSION:2.0
PRODID:-//Plone.org//NONSGML plone.app.event//EN
X-WR-TIMEZONE:Europe/Madrid
BEGIN:VEVENT
SUMMARY:47è Aplec de la sardana
DTSTART;TZID=Europe/Madrid;VALUE=DATE-TIME:20240706T210000
DTEND;TZID=Europe/Madrid;VALUE=DATE-TIME:20240706T220000
DTSTAMP;VALUE=DATE-TIME:20260422T120000Z
UID:bf0dfeb09b019b017d61578d5600fffa
CREATED;VALUE=DATE-TIME:20240706T000000Z
CATEGORIES:Dansa,Música
LOCATION:Pati d'El Casal de Llavaneres
ORGANIZER:Secció de Cultura d'El Casal
COMMENT:Preu: Entrada lliure
Durada: 4 hores
DESCRIPTION:Ballada de sardanes amb tres cobles convidades
URL:https://ajllavaneres.cat/document.php?id=21434
END:VEVENT
END:VCALENDAR