BEGIN:VCALENDAR
VERSION:2.0
PRODID:-//Plone.org//NONSGML plone.app.event//EN
X-WR-TIMEZONE:Europe/Madrid
BEGIN:VEVENT
SUMMARY:Visita guiada Modernista
DTSTART;TZID=Europe/Madrid;VALUE=DATE-TIME:20240706T180000
DTEND;TZID=Europe/Madrid;VALUE=DATE-TIME:20240706T190000
DTSTAMP;VALUE=DATE-TIME:20260422T115002Z
UID:2c5f2c92813cb2fdd62bff650f58733c
CREATED;VALUE=DATE-TIME:20240706T000000Z
CATEGORIES:Trobada
LOCATION:Plaça de la Vila - Plaça de la Vila, 1
ORGANIZER:Regidoria de Promoció Econòmica, Empresa, Comerç, Turisme i Consum
COMMENT:Preu: Gratuït
Durada: 1h 30min
DESCRIPTION:Ruta del Modernisme a Sant Andreu de Llavaneres
URL:https://ajllavaneres.cat/document.php?id=21438
END:VEVENT
END:VCALENDAR