BEGIN:VCALENDAR
VERSION:2.0
PRODID:-//Plone.org//NONSGML plone.app.event//EN
X-WR-TIMEZONE:Europe/Madrid
BEGIN:VEVENT
SUMMARY:Visita guiada Modernista
DTSTART;TZID=Europe/Madrid;VALUE=DATE-TIME:20240829T180000
DTEND;TZID=Europe/Madrid;VALUE=DATE-TIME:20240829T190000
DTSTAMP;VALUE=DATE-TIME:20260422T162151Z
UID:6e0e9ece61a75bd250ab80ffdfb5e8fd
CREATED;VALUE=DATE-TIME:20240829T000000Z
LOCATION:Plaça de la Vila - Plaça de la Vila, 1
ORGANIZER:Regidoria de Promoció Econòmica, Empresa, Comerç, Turisme i Consum
COMMENT:Preu: Gratuït
Durada: 1h 30min
DESCRIPTION:Ruta del Modernisme a Sant Andreu de Llavaneres
URL:https://ajllavaneres.cat/document.php?id=21509
END:VEVENT
END:VCALENDAR