BEGIN:VCALENDAR
VERSION:2.0
PRODID:-//Plone.org//NONSGML plone.app.event//EN
X-WR-TIMEZONE:Europe/Madrid
BEGIN:VEVENT
SUMMARY:50è aniversari del Festival Benèfic de Llavaneres contra el Càncer
DTSTART;TZID=Europe/Madrid;VALUE=DATE-TIME:20240727T213000
DTEND;TZID=Europe/Madrid;VALUE=DATE-TIME:20240727T223000
DTSTAMP;VALUE=DATE-TIME:20260423T022627Z
UID:8b8280a00091646083a060b133f0360e
CREATED;VALUE=DATE-TIME:20240727T000000Z
LOCATION:Parc de Ca l'Alfaro - Passeig de la Mare de Déu de Montserrat, 27-33
ORGANIZER:Llavaneres contra el Càncer
DESCRIPTION:Nit d'actuacions, espectacles, sorteig i sopar popular
URL:https://ajllavaneres.cat/document.php?id=21824
END:VEVENT
END:VCALENDAR