BEGIN:VCALENDAR
VERSION:2.0
PRODID:-//Plone.org//NONSGML plone.app.event//EN
X-WR-TIMEZONE:Europe/Madrid
BEGIN:VEVENT
SUMMARY:És dijous.... QFem? Juguem!
DTSTART;TZID=Europe/Madrid;VALUE=DATE-TIME:20240801T183000
DTEND;TZID=Europe/Madrid;VALUE=DATE-TIME:20240801T193000
DTSTAMP;VALUE=DATE-TIME:20260419T200349Z
UID:ebda071bfb7480cde3879e34b6f96584
CREATED;VALUE=DATE-TIME:20240801T000000Z
CATEGORIES:Trobada
LOCATION:Local Labandaria
ORGANIZER:Associació QFem? Juguem!
COMMENT:Preu: Gratuït
Durada: De 18.30 a 20.30
DESCRIPTION:Avui juguem a Jocs de Devir
URL:https://ajllavaneres.cat/document.php?id=21840
END:VEVENT
END:VCALENDAR