BEGIN:VCALENDAR
VERSION:2.0
PRODID:-//Plone.org//NONSGML plone.app.event//EN
X-WR-TIMEZONE:Europe/Madrid
BEGIN:VEVENT
SUMMARY:Juguem a jocs de taula!
DTSTART;TZID=Europe/Madrid;VALUE=DATE-TIME:20240803T180000
DTEND;TZID=Europe/Madrid;VALUE=DATE-TIME:20240803T190000
DTSTAMP;VALUE=DATE-TIME:20260423T111239Z
UID:20c533b88523508cbee91f5e82bf48ca
CREATED;VALUE=DATE-TIME:20240803T000000Z
CATEGORIES:Trobada
LOCATION:Local de QFem? Juguem! Espai Labandària.
ORGANIZER:Associació QFem? Juguem!
COMMENT:Preu: Gratuït
Durada: De 18 a 20 per a menors de 12 anys. A partir de les 20.30 h, per majors de 12 anys.
DESCRIPTION:Juguem en família amb QFem? Juguem!
URL:https://ajllavaneres.cat/document.php?id=21841
END:VEVENT
END:VCALENDAR