BEGIN:VCALENDAR
VERSION:2.0
PRODID:-//Plone.org//NONSGML plone.app.event//EN
X-WR-TIMEZONE:Europe/Madrid
BEGIN:VEVENT
SUMMARY:Reunió: 50 anys d'El Casal
DTSTART;TZID=Europe/Madrid;VALUE=DATE-TIME:20240806T200000
DTEND;TZID=Europe/Madrid;VALUE=DATE-TIME:20240806T210000
DTSTAMP;VALUE=DATE-TIME:20260419T172614Z
UID:6bb86b05b5ab12ab3d7c8448aa1bd72a
CREATED;VALUE=DATE-TIME:20240806T000000Z
CATEGORIES:Reunió
LOCATION:Sala de Lectura, Sunsi Móra
ORGANIZER:El Casal de Llavaneres
COMMENT:Preu: Entrada lliure
Durada: 1 hora
DESCRIPTION:Actes 50 anys d'El Casal de Llavaneres
URL:https://ajllavaneres.cat/document.php?id=21880
END:VEVENT
END:VCALENDAR