BEGIN:VCALENDAR
VERSION:2.0
PRODID:-//Plone.org//NONSGML plone.app.event//EN
X-WR-TIMEZONE:Europe/Madrid
BEGIN:VEVENT
SUMMARY:És dijous.... QFem? Juguem!
DTSTART;TZID=Europe/Madrid;VALUE=DATE-TIME:20240829T173000
DTEND;TZID=Europe/Madrid;VALUE=DATE-TIME:20240829T183000
DTSTAMP;VALUE=DATE-TIME:20260420T052541Z
UID:60dfdccd5608a2e7a6f95d69702de05a
CREATED;VALUE=DATE-TIME:20240829T000000Z
CATEGORIES:Trobada
LOCATION:Local Labandària
ORGANIZER:Associació QFem? Juguem!
COMMENT:Preu: Gratuït
Durada: De 17.30 a 20.30
DESCRIPTION:Avui juguem amb l'Ignasi Ferré
URL:https://ajllavaneres.cat/document.php?id=21882
END:VEVENT
END:VCALENDAR