BEGIN:VCALENDAR
VERSION:2.0
PRODID:-//Plone.org//NONSGML plone.app.event//EN
X-WR-TIMEZONE:Europe/Madrid
BEGIN:VEVENT
SUMMARY:Cinema a la fresca
DTSTART;TZID=Europe/Madrid;VALUE=DATE-TIME:20240829T213000
DTEND;TZID=Europe/Madrid;VALUE=DATE-TIME:20240829T223000
DTSTAMP;VALUE=DATE-TIME:20260422T114905Z
UID:26594ef01f7ee59d5f32e88046a87e46
CREATED;VALUE=DATE-TIME:20240829T000000Z
CATEGORIES:Cinema
LOCATION:Pati d'El Casal de Llavaneres
ORGANIZER:Secció de Cultura d'El Casal
COMMENT:Preu: Entrada lliure
Durada: De 21.30 a 23 h
DESCRIPTION:Pel·lícula sorpresa - Comèdia romàntica
URL:https://ajllavaneres.cat/document.php?id=21884
END:VEVENT
END:VCALENDAR