BEGIN:VCALENDAR
VERSION:2.0
PRODID:-//Plone.org//NONSGML plone.app.event//EN
X-WR-TIMEZONE:Europe/Madrid
BEGIN:VEVENT
SUMMARY:Tertúlies sobre el procés de vida
DTSTART;TZID=Europe/Madrid;VALUE=DATE-TIME:20240926T180000
DTEND;TZID=Europe/Madrid;VALUE=DATE-TIME:20240926T190000
DTSTAMP;VALUE=DATE-TIME:20260423T145644Z
UID:bd61fffd58150246356067aa817694a9
CREATED;VALUE=DATE-TIME:20240926T000000Z
CATEGORIES:Trobada
LOCATION:Sala d'actes de la Biblioteca Font i Daniel - Clòsens, 65
ORGANIZER:Regidoria de Cultura; Biblioteca Municipal Font i Daniel
COMMENT:Preu: Gratuït
Durada: 1 h 30 min
DESCRIPTION:A càrrec de Patricia Rivera Lanuza, acompanyant en processos de canvi i pèrdua
URL:https://ajllavaneres.cat/document.php?id=21988
END:VEVENT
END:VCALENDAR