BEGIN:VCALENDAR
VERSION:2.0
PRODID:-//Plone.org//NONSGML plone.app.event//EN
X-WR-TIMEZONE:Europe/Madrid
BEGIN:VEVENT
SUMMARY:Concert
DTSTART;TZID=Europe/Madrid;VALUE=DATE-TIME:20241012T143000
DTEND;TZID=Europe/Madrid;VALUE=DATE-TIME:20241012T153000
DTSTAMP;VALUE=DATE-TIME:20260421T135922Z
UID:1f69f9cf8a8b135c27ef22726aa99559
CREATED;VALUE=DATE-TIME:20241012T000000Z
CATEGORIES:Música
LOCATION:Parc de Ca l'Alfaro - Passeig de la Mare de Déu de Montserrat, 27-33
ORGANIZER:Regidoria de Promoció Econòmica, Empresa, Comerç, Turisme i Consum.
URL:https://ajllavaneres.cat/document.php?id=22108
END:VEVENT
END:VCALENDAR