BEGIN:VCALENDAR
VERSION:2.0
PRODID:-//Plone.org//NONSGML plone.app.event//EN
X-WR-TIMEZONE:Europe/Madrid
BEGIN:VEVENT
SUMMARY:Torneig de Golf Sant Andreu
DTSTART;TZID=Europe/Madrid;VALUE=DATE-TIME:20241130T090000
DTEND;TZID=Europe/Madrid;VALUE=DATE-TIME:20241130T100000
DTSTAMP;VALUE=DATE-TIME:20260420T015257Z
UID:6481ec593128b36a4684ff1b420e2726
CREATED;VALUE=DATE-TIME:20241130T000000Z
CATEGORIES:Esports
LOCATION:Club de Golf Llavaneras - Camí del Golf, 49-51
ORGANIZER:Club de Golf Llavaneras
COMMENT:Preu: Socis, 24 &euro;; no socis, 75 &euro;
URL:https://ajllavaneres.cat/document.php?id=22175
END:VEVENT
END:VCALENDAR